BEGIN:VCALENDAR
VERSION:2.0
PRODID:-//Queeres Zentrum Mönchengladbach e.V. - ECPv6.14.0//NONSGML v1.0//EN
CALSCALE:GREGORIAN
METHOD:PUBLISH
X-WR-CALNAME:Queeres Zentrum Mönchengladbach e.V.
X-ORIGINAL-URL:https://queereszentrum-mg.de
X-WR-CALDESC:Veranstaltungen für Queeres Zentrum Mönchengladbach e.V.
REFRESH-INTERVAL;VALUE=DURATION:PT1H
X-Robots-Tag:noindex
X-PUBLISHED-TTL:PT1H
BEGIN:VTIMEZONE
TZID:Europe/Berlin
BEGIN:DAYLIGHT
TZOFFSETFROM:+0100
TZOFFSETTO:+0200
TZNAME:CEST
DTSTART:20260329T010000
END:DAYLIGHT
BEGIN:STANDARD
TZOFFSETFROM:+0200
TZOFFSETTO:+0100
TZNAME:CET
DTSTART:20261025T010000
END:STANDARD
END:VTIMEZONE
BEGIN:VEVENT
DTSTART;TZID=Europe/Berlin:20260421T190000
DTEND;TZID=Europe/Berlin:20260421T230000
DTSTAMP:20260421T113228
CREATED:20240418T115404Z
LAST-MODIFIED:20260204T130840Z
UID:10003258-1776798000-1776812400@queereszentrum-mg.de
SUMMARY:Schwuler Stammtisch
DESCRIPTION:Jeden 3. Dienstag im Monat ab 19Uhr \nAm 17.02.2026 findet kein Stammtisch statt. \n 
URL:https://queereszentrum-mg.de/event/schwuler-stammtisch/2026-04-21
LOCATION:Queeres Zentrum\, Wallstraße 3\, Mönchengladbach\, 41061\, Deutschland
ATTACH;FMTTYPE=image/png:https://queereszentrum-mg.de/wp-content/uploads/2024/04/Faellt-aus-am-17.02.2026.png
END:VEVENT
END:VCALENDAR